BEGIN:VCALENDAR
VERSION:2.0
PRODID:-//ChamberMaster//Event Calendar 2.0//EN
METHOD:PUBLISH
X-PUBLISHED-TTL:P3D
REFRESH-INTERVAL:P3D
CALSCALE:GREGORIAN
BEGIN:VEVENT
DTSTART;VALUE=DATE:20250615
DTEND;VALUE=DATE:20250616
TRANSP:TRANSPARENT
X-MICROSOFT-CDO-ALLDAYEVENT:TRUE
SUMMARY:Yoder Pies Sale Deadline
DESCRIPTION:Yoder Pies Sale Alert!  \n\nMark your calendar because Yoder Pies are back and better than ever!   Made fresh with no preservatives\, these pies are a delicious treat you don't want to miss. Perfect for your Fourth of July celebration!\n\n  Order by June 15th\n\n  Pick up on July 3rd\n\n  2:00   6:00 pm\n\n  Rosewood Meeting Room\, 1607 Main Street\, Great Bend\n\nPies are limited\, so don't wait!\n\nNew for 2025! Can't decide what to get? Order a gift card to give or treat your self!\n\nOrder now using the form below and treat yourself to the best pies in town!  \n\nhttps://form.jotform.com/230720688683060
X-ALT-DESC;FMTTYPE=text/html:&#129383\; Yoder Pies Sale Alert! &#129383\;<br />\nMark your calendar because Yoder Pies are back and better than ever! &#127881\; Made fresh with no preservatives\, these pies are a delicious treat you don&#39\;t want to miss. Perfect for your Fourth of July celebration!<br />\n&#128197\; Order by June 15th<br />\n&#128205\; Pick up on July 3rd<br />\n&#128337\; 2:00 &ndash\; 6:00 pm<br />\n&#127970\; Rosewood Meeting Room\, 1607 Main Street\, Great Bend<br />\nPies are limited\, so don&#39\;t wait!<br />\nNew for 2025! Can&#39\;t decide what to get? Order a gift card to give or treat your self!<br />\nOrder now using the form below and treat yourself to the best pies in town! &#129383\;<br />\nhttps://form.jotform.com/230720688683060
LOCATION:2010 16th St\, Great Bend\, KS
UID:e.2303.16565
SEQUENCE:3
DTSTAMP:20260421T104645Z
URL:http://greatbend.chambermaster.com/events/details/yoder-pies-sale-deadline-16565
END:VEVENT

END:VCALENDAR
