BEGIN:VCALENDAR
VERSION:2.0
PRODID:-//ChamberMaster//Event Calendar 2.0//EN
METHOD:PUBLISH
X-PUBLISHED-TTL:P3D
REFRESH-INTERVAL:P3D
CALSCALE:GREGORIAN
BEGIN:VEVENT
DTSTART:20250426T140000Z
DTEND:20250426T160000Z
X-MICROSOFT-CDO-ALLDAYEVENT:FALSE
SUMMARY:Yard Post Totem Craft Event
DESCRIPTION:Spend your morning painting a yard post totem that you can put in your garden or entry way! Make sure to register at greatbendrec.com.
X-ALT-DESC;FMTTYPE=text/html:Spend your morning painting a yard post totem that you can put in your garden or entry way! Make sure to register at greatbendrec.com.
LOCATION:1214 Stone Street Great Bend\, KS 67530
UID:e.2303.16595
SEQUENCE:3
DTSTAMP:20260426T040307Z
URL:http://greatbend.chambermaster.com/events/details/yard-post-totem-craft-event-16595
END:VEVENT

END:VCALENDAR
