BEGIN:VCALENDAR
VERSION:2.0
PRODID:-//ChamberMaster//Event Calendar 2.0//EN
METHOD:PUBLISH
X-PUBLISHED-TTL:P3D
REFRESH-INTERVAL:P3D
CALSCALE:GREGORIAN
BEGIN:VEVENT
DTSTART:20241122T000000Z
DTEND:20241122T013000Z
X-MICROSOFT-CDO-ALLDAYEVENT:FALSE
SUMMARY:Writing Workshop
DESCRIPTION:The Barton Community College Library will team up with the English department and Barton's literary annual "Prairie Ink" staff to host a writing workshop from 6-7:30 p.m. Nov. 21 in the Barton Library\, Room L111.\n\n\n\nThe workshop will focus on improving participants' writing through collaboration with some of the editors of "Prairie Ink\," faculty and staff from Barton\, and members of the community. This lesson will focus on character development and there will be a peer workshop after the lesson. Attendees are encouraged to bring whatever writing projects they're working on or come prepared to help others.\n\n\n\nFor more information or to contact the "Prairie Ink" staff\, visit prairieink.bartonccc.edu.
X-ALT-DESC;FMTTYPE=text/html:The Barton Community College Library will team up with the English department and Barton&rsquo\;s literary annual &ldquo\;Prairie Ink&rdquo\; staff to host a writing workshop from 6-7:30 p.m. Nov. 21 in the Barton Library\, Room L111.<br />\n<br />\nThe workshop will focus on improving participants&rsquo\; writing through collaboration with some of the editors of &ldquo\;Prairie Ink\,&rdquo\; faculty and staff from Barton\, and members of the community. This lesson will focus on character development and there will be a peer workshop after the lesson. Attendees are encouraged to bring whatever writing projects they&rsquo\;re working on or come prepared to help others.<br />\n<br />\nFor more information or to contact the &ldquo\;Prairie Ink&rdquo\; staff\, visit prairieink.bartonccc.edu.
LOCATION:Barton Library\, Room L111
UID:e.2303.15149
SEQUENCE:3
DTSTAMP:20260423T050605Z
URL:http://greatbend.chambermaster.com/events/details/writing-workshop-15149
END:VEVENT

END:VCALENDAR
