BEGIN:VCALENDAR
VERSION:2.0
PRODID:-//ChamberMaster//Event Calendar 2.0//EN
METHOD:PUBLISH
X-PUBLISHED-TTL:P3D
REFRESH-INTERVAL:P3D
CALSCALE:GREGORIAN
BEGIN:VEVENT
DTSTART:20241024T230000Z
DTEND:20241025T003000Z
X-MICROSOFT-CDO-ALLDAYEVENT:FALSE
SUMMARY:Writing Workshop
DESCRIPTION:
X-ALT-DESC;FMTTYPE=text/html:
LOCATION:Barton Library\, Cavanaugh Room
UID:e.2303.14985
SEQUENCE:3
DTSTAMP:20260423T230540Z
URL:http://greatbend.chambermaster.com/events/details/writing-workshop-14985
END:VEVENT

END:VCALENDAR
