BEGIN:VCALENDAR
VERSION:2.0
PRODID:-//ChamberMaster//Event Calendar 2.0//EN
METHOD:PUBLISH
X-PUBLISHED-TTL:P3D
REFRESH-INTERVAL:P3D
CALSCALE:GREGORIAN
BEGIN:VEVENT
DTSTART:20250327T230000Z
DTEND:20250328T003000Z
X-MICROSOFT-CDO-ALLDAYEVENT:FALSE
SUMMARY:Workshop Your Writing Process with Use
DESCRIPTION:Join the Prairie Ink Editors and Barton Library Staff for a writing workshop. Topic: Creating Realistic Dialogue Bring your writings to workshop with the group after the activity. The workshop will focus on using characterization to create realistic dialogue. The workshop is built around collaboration with some of the editors of "Prairie Ink\," faculty and staff from Barton\, and members of the community. Attendees are encouraged to bring whatever writing projects they're working on or come prepared to help others.
X-ALT-DESC;FMTTYPE=text/html:Join the Prairie Ink Editors and Barton Library Staff for a writing workshop. Topic: Creating Realistic Dialogue Bring your writings to workshop with the group after the activity. The workshop will focus on using characterization to create realistic dialogue. The workshop is built around collaboration with some of the editors of &ldquo\;Prairie Ink\,&rdquo\; faculty and staff from Barton\, and members of the community. Attendees are encouraged to bring whatever writing projects they&rsquo\;re working on or come prepared to help others.
LOCATION:Barton Community College Learning Resource Center Cavanaugh Room 245 NE 30 Road Great Bend\, KS 67530
UID:e.2303.16555
SEQUENCE:3
DTSTAMP:20260422T063453Z
URL:http://greatbend.chambermaster.com/events/details/workshop-your-writing-process-with-use-16555
END:VEVENT

END:VCALENDAR
