BEGIN:VCALENDAR
VERSION:2.0
PRODID:-//ChamberMaster//Event Calendar 2.0//EN
METHOD:PUBLISH
X-PUBLISHED-TTL:P3D
REFRESH-INTERVAL:P3D
CALSCALE:GREGORIAN
BEGIN:VEVENT
DTSTART:20250409T223000Z
DTEND:20250409T233000Z
X-MICROSOFT-CDO-ALLDAYEVENT:FALSE
SUMMARY:Wing Wednesday
DESCRIPTION:Head down to the American Legion and get a wing dinner!
X-ALT-DESC;FMTTYPE=text/html:Head down to the American Legion and get a wing dinner!
LOCATION:1011 Kansas Ave. Great Bend\, KS
UID:e.2303.16432
SEQUENCE:3
DTSTAMP:20260421T172711Z
URL:http://greatbend.chambermaster.com/events/details/wing-wednesday-16432
END:VEVENT

END:VCALENDAR
