BEGIN:VCALENDAR
VERSION:2.0
PRODID:-//ChamberMaster//Event Calendar 2.0//EN
METHOD:PUBLISH
X-PUBLISHED-TTL:P3D
REFRESH-INTERVAL:P3D
CALSCALE:GREGORIAN
BEGIN:VEVENT
DTSTART:20240331T170000Z
DTEND:20240525T170000Z
X-MICROSOFT-CDO-ALLDAYEVENT:FALSE
SUMMARY:Walk Kansas Begins!
DESCRIPTION:Walk Kansas is a team-based 8-week health initiative program that will inspire you to lead a healthier life by being more active and making better nutrition choices. As part of a team of up to six members\, you can select a goal and support one another in reaching it. This year\, Walk Kansas will take place from March 31st to May 25th. Registration opens March 4. To register\, visit WalkKansas.org or call us at 785-628-9430 if you have any questions or need help registering. The benefits of participating include:? Weekly newsletters filled with motivational healthy lifestyle information\, resources\, and recipes\;? Access to the online tracking system\, as well as the Walk Kansas app\, to help keep you on track as you work to reach your goals\;? Support in working towards leading a healthier life\, including support gained from your teammates and exclusive membership in a closed Walk Kansas Facebook group. ? The cost to participate is $10 per person\, which includes access to all of the benefits listed above. So\, gather your team and get registered! If you don't have a team\, we can assign you to one or you can walk solo.?
X-ALT-DESC;FMTTYPE=text/html:Walk Kansas is a team-based 8-week health initiative program that will inspire you to lead a healthier life by being more active and making better nutrition choices. As part of a team of up to six members\, you can select a goal and support one another in reaching it. This year\, Walk Kansas will take place from March 31st to May 25th. Registration opens March 4. To register\, visit WalkKansas.org or call us at 785-628-9430 if you have any questions or need help registering. The benefits of participating include:? Weekly newsletters filled with motivational healthy lifestyle information\, resources\, and recipes\;? Access to the online tracking system\, as well as the Walk Kansas app\, to help keep you on track as you work to reach your goals\;? Support in working towards leading a healthier life\, including support gained from your teammates and exclusive membership in a closed Walk Kansas Facebook group. ? The cost to participate is $10 per person\, which includes access to all of the benefits listed above. So\, gather your team and get registered! If you don&#39\;t have a team\, we can assign you to one or you can walk solo.?
LOCATION:
UID:e.2303.13512
SEQUENCE:3
DTSTAMP:20260425T201531Z
URL:http://greatbend.chambermaster.com/events/details/walk-kansas-begins-13512
END:VEVENT

END:VCALENDAR
