BEGIN:VCALENDAR
VERSION:2.0
PRODID:-//ChamberMaster//Event Calendar 2.0//EN
METHOD:PUBLISH
X-PUBLISHED-TTL:P3D
REFRESH-INTERVAL:P3D
CALSCALE:GREGORIAN
BEGIN:VEVENT
DTSTART;VALUE=DATE:20250310
DTEND;VALUE=DATE:20250311
TRANSP:TRANSPARENT
X-MICROSOFT-CDO-ALLDAYEVENT:TRUE
SUMMARY:Vortex Art Exhibit
DESCRIPTION:Barton's Shafer Art Gallery will open its "Vortex Day\," art show March 10 featuring a variety of 2D and 3D pieces from local high school artists from across the region.\n\n\n\nThe exhibit is the keystone event of "Vortex Day\," which will take place on March 26 and will go from 9 a.m. to 1:30 p.m. It will include fine arts workshops taught by Barton faculty and concludes with an award show for the exhibit judged by sci-fi ceramics guest artist John Hamilton.
X-ALT-DESC;FMTTYPE=text/html:Barton&rsquo\;s Shafer Art Gallery will open its &ldquo\;Vortex Day\,&rdquo\; art show March 10 featuring a variety of 2D and 3D pieces from local high school artists from across the region.<br />\n<br />\nThe exhibit is the keystone event of &ldquo\;Vortex Day\,&rdquo\; which will take place on March 26 and will go from 9 a.m. to 1:30 p.m. It will include fine arts workshops taught by Barton faculty and concludes with an award show for the exhibit judged by sci-fi ceramics guest artist John Hamilton.
LOCATION:Shafer Art Gallery\, Great Bend\, KS
UID:e.2303.16442
SEQUENCE:3
DTSTAMP:20260422T061747Z
URL:http://greatbend.chambermaster.com/events/details/vortex-art-exhibit-16442
END:VEVENT

END:VCALENDAR
