BEGIN:VCALENDAR
VERSION:2.0
PRODID:-//ChamberMaster//Event Calendar 2.0//EN
METHOD:PUBLISH
X-PUBLISHED-TTL:P3D
REFRESH-INTERVAL:P3D
CALSCALE:GREGORIAN
BEGIN:VEVENT
DTSTART:20251122T210000Z
DTEND:20251122T230000Z
X-MICROSOFT-CDO-ALLDAYEVENT:FALSE
SUMMARY:Thanksgiving Table Centerpiece Workshop
DESCRIPTION:Grab some friends and come on over to Happy Girl Flower Shop and learn to make an elegant and festive Thanksgiving table centerpiece with fresh cut flowers with a candle for your own Thanksgiving Table this season. A snack and beverage are provided along with the drawing of a door prize. RSVP before 11/20/2025 to ensure a spot.
X-ALT-DESC;FMTTYPE=text/html:Grab some friends and come on over to Happy Girl Flower Shop and learn to make an elegant and festive Thanksgiving table centerpiece with fresh cut flowers with a candle for your own Thanksgiving Table this season. A snack and beverage are provided along with the drawing of a door prize. RSVP before 11/20/2025 to ensure a spot.
LOCATION:2102 Kansas Avenue
UID:e.2303.18030
SEQUENCE:3
DTSTAMP:20260421T040740Z
URL:http://greatbend.chambermaster.com/events/details/thanksgiving-table-centerpiece-workshop-18030
END:VEVENT

END:VCALENDAR
