BEGIN:VCALENDAR
VERSION:2.0
PRODID:-//ChamberMaster//Event Calendar 2.0//EN
METHOD:PUBLISH
X-PUBLISHED-TTL:P3D
REFRESH-INTERVAL:P3D
CALSCALE:GREGORIAN
BEGIN:VEVENT
DTSTART:20250209T150000Z
DTEND:20250209T183000Z
X-MICROSOFT-CDO-ALLDAYEVENT:FALSE
SUMMARY:Sunday Brunch
DESCRIPTION:The VFW is hosting a brunch! Adults are $10\, 65 and over are $9\, and 12 and under are $5.
X-ALT-DESC;FMTTYPE=text/html:The VFW is hosting a brunch! Adults are $10\, 65 and over are $9\, and 12 and under are $5.
LOCATION:504 Washington\, Great Bend\, KS
UID:e.2303.16362
SEQUENCE:3
DTSTAMP:20260422T082338Z
URL:http://greatbend.chambermaster.com/events/details/sunday-brunch-16362
END:VEVENT

END:VCALENDAR
