BEGIN:VCALENDAR
VERSION:2.0
PRODID:-//ChamberMaster//Event Calendar 2.0//EN
METHOD:PUBLISH
X-PUBLISHED-TTL:P3D
REFRESH-INTERVAL:P3D
CALSCALE:GREGORIAN
BEGIN:VEVENT
DTSTART:20250429T170000Z
DTEND:20250429T180000Z
X-MICROSOFT-CDO-ALLDAYEVENT:FALSE
SUMMARY:Startup & Start Right
DESCRIPTION:Ready to turn your business idea into reality? This webinar untangles the startup process and guides you through ten essential steps. We'll navigate licenses\, taxes\, business structure\, funding\, and more with clear explanations and actions to take!
X-ALT-DESC;FMTTYPE=text/html:Ready to turn your business idea into reality? This webinar untangles the startup process and guides you through ten essential steps. We&rsquo\;ll navigate licenses\, taxes\, business structure\, funding\, and more with clear explanations and actions to take!
LOCATION:Online
UID:e.2303.16857
SEQUENCE:3
DTSTAMP:20260422T051952Z
URL:http://greatbend.chambermaster.com/events/details/startup-start-right-16857
END:VEVENT

END:VCALENDAR
