BEGIN:VCALENDAR
VERSION:2.0
PRODID:-//ChamberMaster//Event Calendar 2.0//EN
METHOD:PUBLISH
X-PUBLISHED-TTL:P3D
REFRESH-INTERVAL:P3D
CALSCALE:GREGORIAN
BEGIN:VEVENT
DTSTART:20250325T170000Z
DTEND:20250325T180000Z
X-MICROSOFT-CDO-ALLDAYEVENT:FALSE
SUMMARY:Startup and Start Right
DESCRIPTION:Ready to turn your business idea into reality? This webinar untangles the startup process and guides you through 10 essential steps.\n\n \n\nTogether we'll navigate:\n\n\n\nLicenses\n\nTaxes\n\nBusiness structure\n\nFunding\n\nAnd more with clear explanations and actions to take!
X-ALT-DESC;FMTTYPE=text/html:Ready to turn your business idea into reality? This webinar untangles the startup process and guides you through 10 essential steps.<br />\n&nbsp\;<br />\nTogether we&rsquo\;ll navigate:<br />\n<br />\nLicenses<br />\nTaxes<br />\nBusiness structure<br />\nFunding<br />\nAnd more with clear explanations and actions to take!
LOCATION:Online
UID:e.2303.16320
SEQUENCE:3
DTSTAMP:20260422T122826Z
URL:http://greatbend.chambermaster.com/events/details/startup-and-start-right-16320
END:VEVENT

END:VCALENDAR
