BEGIN:VCALENDAR
VERSION:2.0
PRODID:-//ChamberMaster//Event Calendar 2.0//EN
METHOD:PUBLISH
X-PUBLISHED-TTL:P3D
REFRESH-INTERVAL:P3D
CALSCALE:GREGORIAN
BEGIN:VEVENT
DTSTART:20250405T150000Z
DTEND:20250405T210000Z
X-MICROSOFT-CDO-ALLDAYEVENT:FALSE
SUMMARY:Spring Pop-Up Market
DESCRIPTION:Join us for a fun day featuring local vendors and makers! You can shop all things SPRING in time to fill those Easter Baskets and refresh your home or wardrobe! We'll have refreshments\, shopping and fun!
X-ALT-DESC;FMTTYPE=text/html:Join us for a fun day featuring local vendors and makers! You can shop all things SPRING in time to fill those Easter Baskets and refresh your home or wardrobe! We&#39\;ll have refreshments\, shopping and fun!&nbsp\;
LOCATION:1119 Main St. Great Bend\, KS
UID:e.2303.16582
SEQUENCE:3
DTSTAMP:20260423T034000Z
URL:http://greatbend.chambermaster.com/events/details/spring-pop-up-market-16582
END:VEVENT

END:VCALENDAR
