BEGIN:VCALENDAR
VERSION:2.0
PRODID:-//ChamberMaster//Event Calendar 2.0//EN
METHOD:PUBLISH
X-PUBLISHED-TTL:P3D
REFRESH-INTERVAL:P3D
CALSCALE:GREGORIAN
BEGIN:VEVENT
DTSTART:20250516T223000Z
DTEND:20250517T000000Z
X-MICROSOFT-CDO-ALLDAYEVENT:FALSE
SUMMARY:Spaghetti Night
DESCRIPTION:The American Legion Post is holding a spaghetti nigh! Make sure to check it out.
X-ALT-DESC;FMTTYPE=text/html:The American Legion Post is holding a spaghetti nigh! Make sure to check it out.
LOCATION:1011 Kansas Ave. Great Bend\, KS
UID:e.2303.17080
SEQUENCE:3
DTSTAMP:20260421T230114Z
URL:http://greatbend.chambermaster.com/events/details/spaghetti-night-17080
END:VEVENT

END:VCALENDAR
