BEGIN:VCALENDAR
VERSION:2.0
PRODID:-//ChamberMaster//Event Calendar 2.0//EN
METHOD:PUBLISH
X-PUBLISHED-TTL:P3D
REFRESH-INTERVAL:P3D
CALSCALE:GREGORIAN
BEGIN:VEVENT
DTSTART;VALUE=DATE:20240928
DTEND;VALUE=DATE:20240929
TRANSP:TRANSPARENT
X-MICROSOFT-CDO-ALLDAYEVENT:TRUE
SUMMARY:Sourdough Bread Workshop
DESCRIPTION:Sr. Imelda\, a consummate bread baker\, will be offering a Making Sourdough\n\nBread workshop on September 28. If you've ever had Sr. Imelda's breads\, you know she is an expert!
X-ALT-DESC;FMTTYPE=text/html:Sr. Imelda\, a consummate bread baker\, will be offering a Making Sourdough<br />\nBread workshop on September 28. If you&rsquo\;ve ever had Sr. Imelda&rsquo\;s breads\, you know she is an expert!
LOCATION:Heartland Farms
UID:e.2303.13797
SEQUENCE:3
DTSTAMP:20260425T151027Z
URL:http://greatbend.chambermaster.com/events/details/sourdough-bread-workshop-13797
END:VEVENT

END:VCALENDAR
