BEGIN:VCALENDAR
VERSION:2.0
PRODID:-//ChamberMaster//Event Calendar 2.0//EN
METHOD:PUBLISH
X-PUBLISHED-TTL:P3D
REFRESH-INTERVAL:P3D
CALSCALE:GREGORIAN
BEGIN:VEVENT
DTSTART:20250111T161500Z
DTEND:20250111T180000Z
X-MICROSOFT-CDO-ALLDAYEVENT:FALSE
SUMMARY:Snowball Drop
DESCRIPTION:Head down to the Crest Theatre to get some prizes! Great Bend Alive is hosting their Snowball Drop January 11th. You can only receive 3 snowballs per person. Snowballs can be redeemed for discounts\, gift cards\, and other prizes! Then shop downtown #GBK.
X-ALT-DESC;FMTTYPE=text/html:Head down to the Crest Theatre to get some prizes! Great Bend Alive is hosting their Snowball Drop January 11th. You can only receive 3 snowballs per person. Snowballs can be redeemed for discounts\, gift cards\, and other prizes! Then shop downtown #GBK.
LOCATION:Crest Theatre\, Great Bend\, KS 67530
UID:e.2303.15657
SEQUENCE:3
DTSTAMP:20260423T222137Z
URL:http://greatbend.chambermaster.com/events/details/snowball-drop-15657
END:VEVENT

END:VCALENDAR
