BEGIN:VCALENDAR
VERSION:2.0
PRODID:-//ChamberMaster//Event Calendar 2.0//EN
METHOD:PUBLISH
X-PUBLISHED-TTL:P3D
REFRESH-INTERVAL:P3D
CALSCALE:GREGORIAN
BEGIN:VEVENT
DTSTART:20250201T003000Z
DTEND:20250201T020000Z
X-MICROSOFT-CDO-ALLDAYEVENT:FALSE
SUMMARY:Shafer Art Gallery Reception
DESCRIPTION:The Shafer Gallery will host a reception for its new exhibit featuring pieces from Barton's permanent collection\, which will be curated by Barton President Dr. Marcus Garstecki and his wife Kacie. The reception will have light refreshments. The exhibit will run through Feb. 28.
X-ALT-DESC;FMTTYPE=text/html:<span style="color: rgb(34\, 34\, 34)\; font-family: Arial\, Helvetica\, sans-serif\; font-size: small\;">The Shafer Gallery will host a reception for its new exhibit featuring pieces from Barton&rsquo\;s permanent collection\, which will be curated by Barton President Dr. Marcus Garstecki and his wife Kacie. The reception will have light refreshments. The exhibit will run through Feb. 28.&nbsp\;&nbsp\;</span>
LOCATION:The Shafer Art Gallery
UID:e.2303.16084
SEQUENCE:3
DTSTAMP:20260425T195133Z
URL:http://greatbend.chambermaster.com/events/details/shafer-art-gallery-reception-16084
END:VEVENT

END:VCALENDAR
