BEGIN:VCALENDAR
VERSION:2.0
PRODID:-//ChamberMaster//Event Calendar 2.0//EN
METHOD:PUBLISH
X-PUBLISHED-TTL:P3D
REFRESH-INTERVAL:P3D
CALSCALE:GREGORIAN
BEGIN:VEVENT
DTSTART:20250528T180000Z
DTEND:20250528T220000Z
X-MICROSOFT-CDO-ALLDAYEVENT:FALSE
SUMMARY:ServSafe Food Handling Class
DESCRIPTION:This training session covers basic food safety\, personal hygiene\, preventing cross-contamination\, food allergens\, time and temperature controls\, and cleaning and sanitation. The fee pays for the ServSafe Guide Book and a snack.
X-ALT-DESC;FMTTYPE=text/html:This training session covers basic food safety\, personal hygiene\, preventing cross-contamination\, food allergens\, time and temperature controls\, and cleaning and sanitation. The fee pays for the ServSafe Guide Book and a snack.
LOCATION:3007 10th St. Great Bend\, KS
UID:e.2303.17136
SEQUENCE:3
DTSTAMP:20260424T011654Z
URL:http://greatbend.chambermaster.com/events/details/servsafe-food-handling-class-17136
END:VEVENT

END:VCALENDAR
