BEGIN:VCALENDAR
VERSION:2.0
PRODID:-//ChamberMaster//Event Calendar 2.0//EN
METHOD:PUBLISH
X-PUBLISHED-TTL:P3D
REFRESH-INTERVAL:P3D
CALSCALE:GREGORIAN
BEGIN:VEVENT
DTSTART:20250411T150000Z
DTEND:20250411T210000Z
X-MICROSOFT-CDO-ALLDAYEVENT:FALSE
SUMMARY:Sci-Fi Ceramics Workshop
DESCRIPTION:Otherworldly 3D art will be front and center at the Shafer Gallery's "Sci-Fi Ceramics" event\, led by artist John Hamilton April 11 from 10 a.m. to 4 p.m. in the Ceramics Lab\, in the Technical Building\, room T-151.\n\n\n\nThis free workshop will feature discussion\, demonstrations\, and small hands-on elements that showcase how Hamilton creates his unique artwork. Lunch will be provided from noon to 1 p.m. All skill levels are welcome\, but the recommended age is high school or older.\n\n\n\nTo reserve a spot for the workshop\, please contact Shafer Gallery Community Engagement Coordinator Richard Lartz at shafergallery@bartonccc.edu or (620) 792-9242.
X-ALT-DESC;FMTTYPE=text/html:Otherworldly 3D art will be front and center at the Shafer Gallery&rsquo\;s &ldquo\;Sci-Fi Ceramics&rdquo\; event\, led by artist John Hamilton April 11 from 10 a.m. to 4 p.m. in the Ceramics Lab\, in the Technical Building\, room T-151.<br />\n<br />\nThis free workshop will feature discussion\, demonstrations\, and small hands-on elements that showcase how Hamilton creates his unique artwork. Lunch will be provided from noon to 1 p.m. All skill levels are welcome\, but the recommended age is high school or older.<br />\n<br />\nTo reserve a spot for the workshop\, please contact Shafer Gallery Community Engagement Coordinator Richard Lartz at shafergallery@bartonccc.edu or (620) 792-9242.
LOCATION:Barton Community College\, Technical Building\, room T-151
UID:e.2303.16508
SEQUENCE:3
DTSTAMP:20260421T191921Z
URL:http://greatbend.chambermaster.com/events/details/sci-fi-ceramics-workshop-16508
END:VEVENT

END:VCALENDAR
