BEGIN:VCALENDAR
VERSION:2.0
PRODID:-//ChamberMaster//Event Calendar 2.0//EN
METHOD:PUBLISH
X-PUBLISHED-TTL:P3D
REFRESH-INTERVAL:P3D
CALSCALE:GREGORIAN
BEGIN:VEVENT
DTSTART:20250505T223000Z
DTEND:20250506T000000Z
X-MICROSOFT-CDO-ALLDAYEVENT:FALSE
SUMMARY:SAL Hamburger Feed
DESCRIPTION:There will be a hamburger feed held at the VFW for $7!
X-ALT-DESC;FMTTYPE=text/html:There will be a hamburger feed held at the VFW for $7!
LOCATION:1011 Kansas Ave
UID:e.2303.17075
SEQUENCE:3
DTSTAMP:20260421T135818Z
URL:http://greatbend.chambermaster.com/events/details/sal-hamburger-feed-17075
END:VEVENT

END:VCALENDAR
