BEGIN:VCALENDAR
VERSION:2.0
PRODID:-//ChamberMaster//Event Calendar 2.0//EN
METHOD:PUBLISH
X-PUBLISHED-TTL:P3D
REFRESH-INTERVAL:P3D
CALSCALE:GREGORIAN
BEGIN:VEVENT
DTSTART:20241202T233000Z
DTEND:20241203T010000Z
X-MICROSOFT-CDO-ALLDAYEVENT:FALSE
SUMMARY:SAL Hamburger Feed
DESCRIPTION:There will be a hamburger feed held at the VFW for $7!
X-ALT-DESC;FMTTYPE=text/html:There will be a hamburger feed held at the VFW for $7!
LOCATION:504 Washington St
UID:e.2303.15161
SEQUENCE:3
DTSTAMP:20260422T234527Z
URL:http://greatbend.chambermaster.com/events/details/sal-hamburger-feed-15161
END:VEVENT

END:VCALENDAR
