BEGIN:VCALENDAR
VERSION:2.0
PRODID:-//ChamberMaster//Event Calendar 2.0//EN
METHOD:PUBLISH
X-PUBLISHED-TTL:P3D
REFRESH-INTERVAL:P3D
CALSCALE:GREGORIAN
BEGIN:VEVENT
DTSTART:20250412T123000Z
DTEND:20250412T140000Z
X-MICROSOFT-CDO-ALLDAYEVENT:FALSE
SUMMARY:Rise & Run 5K
DESCRIPTION:Are you ready to experience he joy of running while making a difference? Then register to join the Family Crisis Center's Rise and Run! This event is the perfect way to raise awareness and get some great exercise. Make sure to register with the QR code below.
X-ALT-DESC;FMTTYPE=text/html:Are you ready to experience he joy of running while making a difference? Then register to join the Family Crisis Center&#39\;s Rise and Run! This event is the perfect way to raise awareness and get some great exercise. Make sure to register with the QR code below.
LOCATION:Veterans Memorial Park Great Bend\, KS
UID:e.2303.16569
SEQUENCE:3
DTSTAMP:20260421T231116Z
URL:http://greatbend.chambermaster.com/events/details/rise-run-5k-16569
END:VEVENT

END:VCALENDAR
