BEGIN:VCALENDAR
VERSION:2.0
PRODID:-//ChamberMaster//Event Calendar 2.0//EN
METHOD:PUBLISH
X-PUBLISHED-TTL:P3D
REFRESH-INTERVAL:P3D
CALSCALE:GREGORIAN
BEGIN:VEVENT
DTSTART:20250424T140000Z
DTEND:20250424T170000Z
X-MICROSOFT-CDO-ALLDAYEVENT:FALSE
SUMMARY:QuickBooks Online Training for Intermediate Users
DESCRIPTION:Build on your knowledge. Learn to manage more complex concepts including setting up sales tax\, creating estimates\, recurring transactions\, inventory management\, journal entries\, and payroll. We will also cover how to manage accounts receivable and accounts payable\, reconcile accounts\, and analyze reports.
X-ALT-DESC;FMTTYPE=text/html:Build on your knowledge. Learn to manage more complex concepts including setting up sales tax\, creating estimates\, recurring transactions\, inventory management\, journal entries\, and payroll. We will also cover how to manage accounts receivable and accounts payable\, reconcile accounts\, and analyze reports.&nbsp\;
LOCATION:Online
UID:e.2303.16855
SEQUENCE:3
DTSTAMP:20260423T111127Z
URL:http://greatbend.chambermaster.com/events/details/quickbooks-online-training-for-intermediate-users-16855
END:VEVENT

END:VCALENDAR
