BEGIN:VCALENDAR
VERSION:2.0
PRODID:-//ChamberMaster//Event Calendar 2.0//EN
METHOD:PUBLISH
X-PUBLISHED-TTL:P3D
REFRESH-INTERVAL:P3D
CALSCALE:GREGORIAN
BEGIN:VEVENT
DTSTART:20251021T140000Z
DTEND:20251021T170000Z
X-MICROSOFT-CDO-ALLDAYEVENT:FALSE
SUMMARY:QuickBooks Online Training for Beginners
DESCRIPTION:Join us to learn how to effectively use QuickBooks Online (QBO). We'll cover setting up your company account\, navigating the user interface\, recording transactions\, running reports\, and exploring advanced features like setting up products and services\, customers\, vendors\, and sales tax. This webinar will provide you with the practical skills to leverage QBO and enhance your financial management processes.\n\n\n\nSimplify your business finances with QuickBooks Online. Join Certified ProAdvisor Charnea Bell to learn setup\, transactions\, customer and vendor management\, and reports.
X-ALT-DESC;FMTTYPE=text/html:Join us to learn how to effectively use QuickBooks Online (QBO). We&#39\;ll cover setting up your company account\, navigating the user interface\, recording transactions\, running reports\, and exploring advanced features like setting up products and services\, customers\, vendors\, and sales tax. This webinar will provide you with the practical skills to leverage QBO and enhance your financial management processes.<br />\n<br />\nSimplify your business finances with QuickBooks Online. Join Certified ProAdvisor Charnea Bell to learn setup\, transactions\, customer and vendor management\, and reports.
LOCATION:Online
UID:e.2303.18007
SEQUENCE:3
DTSTAMP:20260422T012418Z
URL:http://greatbend.chambermaster.com/events/details/quickbooks-online-training-for-beginners-18007
END:VEVENT

END:VCALENDAR
