BEGIN:VCALENDAR
VERSION:2.0
PRODID:-//ChamberMaster//Event Calendar 2.0//EN
METHOD:PUBLISH
X-PUBLISHED-TTL:P3D
REFRESH-INTERVAL:P3D
CALSCALE:GREGORIAN
BEGIN:VEVENT
DTSTART:20250227T150000Z
DTEND:20250227T180000Z
X-MICROSOFT-CDO-ALLDAYEVENT:FALSE
SUMMARY:QuickBooks Online for Intermediate Users
DESCRIPTION:Build on the skills learned in the Beginners course and learn how to make the most of this cloud-based accounting software to manage your company's finances more efficiently. This webinar covers more complex concepts including setting up sales tax\, creating estimates\, recurring transactions\, inventory management\, journal entries\, and payroll. Also learn how to manage accounts receivable and accounts payable\, reconcile accounts\, and analyze reports. Presenter Charnea Bell is a Master Accountant\, Certified QuickBooks Online ProAdvisor\, alumna of Wichita State University\, and local business owner.
X-ALT-DESC;FMTTYPE=text/html:Build on the skills learned in the Beginners course and learn how to make the most of this cloud-based accounting software to manage your company&#39\;s finances more efficiently. This webinar covers more complex concepts including setting up sales tax\, creating estimates\, recurring transactions\, inventory management\, journal entries\, and payroll. Also learn how to manage accounts receivable and accounts payable\, reconcile accounts\, and analyze reports. Presenter Charnea Bell is a Master Accountant\, Certified QuickBooks Online ProAdvisor\, alumna of Wichita State University\, and local business owner.
LOCATION:Online
UID:e.2303.16314
SEQUENCE:3
DTSTAMP:20260423T160614Z
URL:http://greatbend.chambermaster.com/events/details/quickbooks-online-for-intermediate-users-16314
END:VEVENT

END:VCALENDAR
