BEGIN:VCALENDAR
VERSION:2.0
PRODID:-//ChamberMaster//Event Calendar 2.0//EN
METHOD:PUBLISH
X-PUBLISHED-TTL:P3D
REFRESH-INTERVAL:P3D
CALSCALE:GREGORIAN
BEGIN:VEVENT
DTSTART:20250313T170000Z
DTEND:20250313T190000Z
X-MICROSOFT-CDO-ALLDAYEVENT:FALSE
SUMMARY:Postcard Promotion
DESCRIPTION:The League of Women Voters is hosting a postcard promotion! This is an opportunity to send your concerns to the White house. Postcards will be provided and you can donate for stamps!
X-ALT-DESC;FMTTYPE=text/html:The League of Women Voters is hosting a postcard promotion! This is an opportunity to send your concerns to the White house. Postcards will be provided and you can donate for stamps!
LOCATION:The Great Bend Public Library
UID:e.2303.16509
SEQUENCE:3
DTSTAMP:20260422T214642Z
URL:http://greatbend.chambermaster.com/events/details/postcard-promotion-16509
END:VEVENT

END:VCALENDAR
