BEGIN:VCALENDAR
VERSION:2.0
PRODID:-//ChamberMaster//Event Calendar 2.0//EN
METHOD:PUBLISH
X-PUBLISHED-TTL:P3D
REFRESH-INTERVAL:P3D
CALSCALE:GREGORIAN
BEGIN:VEVENT
DTSTART:20250824T193000Z
DTEND:20250824T203000Z
X-MICROSOFT-CDO-ALLDAYEVENT:FALSE
SUMMARY:Plant Bingo
DESCRIPTION:Join Kelly's Garden Sense for a fun afternoon of BINGO & Plants at Dry Lake Brewing! Enjoy snacks\, cheesecake\, a drink and of course PLANTS! Everyone's a winner! Plant lovers will not leave empty handed \n\n\n\nPlus you'll get a coupon to come shop the Greenhouse!
X-ALT-DESC;FMTTYPE=text/html:Join Kelly&#39\;s Garden Sense for a fun afternoon of BINGO &amp\; Plants at Dry Lake Brewing! Enjoy snacks\, cheesecake\, a drink and of course PLANTS! Everyone&#39\;s a winner! Plant lovers will not leave empty handed&nbsp\;<br />\n<br />\n<em>Plus you&#39\;ll get a coupon to come shop the Greenhouse!</em>
LOCATION:Dry Lake Brewing 1305 Main St\, Great Bend\, KS 67530
UID:e.2303.17848
SEQUENCE:3
DTSTAMP:20260421T115824Z
URL:http://greatbend.chambermaster.com/events/details/plant-bingo-17848
END:VEVENT

END:VCALENDAR
