BEGIN:VCALENDAR
VERSION:2.0
PRODID:-//ChamberMaster//Event Calendar 2.0//EN
METHOD:PUBLISH
X-PUBLISHED-TTL:P3D
REFRESH-INTERVAL:P3D
CALSCALE:GREGORIAN
BEGIN:VEVENT
DTSTART:20250120T233000Z
DTEND:20250121T010000Z
X-MICROSOFT-CDO-ALLDAYEVENT:FALSE
SUMMARY:Phillips Benefit Soup Supper Night!
DESCRIPTION:Special Legion Family Fundraiser for the Loren and\n\nCindy Phillips Family   Monday\, Jan 20   5:30-7pm\n\nAs many of you know\, the Phillips family is going through\n\nsome challenging times and could use our help. So\, the\n\nLegion Family is holding a benefit soup supper. Loren is a\n\nlong-time member of the Sons of the American Legion and\n\nplays Santa at the American Legion and many other events\n\naround town. Please come out\, have some great soup and\n\nsupport our friend.
X-ALT-DESC;FMTTYPE=text/html:Special Legion Family Fundraiser for the Loren and<br />\nCindy Phillips Family &ndash\; Monday\, Jan 20 &ndash\; 5:30-7pm<br />\nAs many of you know\, the Phillips family is going through<br />\nsome challenging times and could use our help. So\, the<br />\nLegion Family is holding a benefit soup supper. Loren is a<br />\nlong-time member of the Sons of the American Legion and<br />\nplays Santa at the American Legion and many other events<br />\naround town. Please come out\, have some great soup and<br />\nsupport our friend.
LOCATION:1011 Kansas Ave Great Bend\, KS 67530
UID:e.2303.16072
SEQUENCE:3
DTSTAMP:20260423T015733Z
URL:http://greatbend.chambermaster.com/events/details/phillips-benefit-soup-supper-night-16072
END:VEVENT

END:VCALENDAR
