BEGIN:VCALENDAR
VERSION:2.0
PRODID:-//ChamberMaster//Event Calendar 2.0//EN
METHOD:PUBLISH
X-PUBLISHED-TTL:P3D
REFRESH-INTERVAL:P3D
CALSCALE:GREGORIAN
BEGIN:VEVENT
DTSTART:20250918T220000Z
DTEND:20250918T230000Z
X-MICROSOFT-CDO-ALLDAYEVENT:FALSE
SUMMARY:Performing Arts Faculty Recital
DESCRIPTION:Fine Arts inspire the Performing Arts in this special collaborative event where the Barton Arts Faculty perform and present their work. Refreshments will be served at a reception following this free event.
X-ALT-DESC;FMTTYPE=text/html:<span style="color: rgb(34\, 34\, 34)\; font-family: Calibri\, sans-serif\; font-size: 14.6667px\;">Fine Arts inspire the Performing Arts in this special collaborative event where the Barton Arts Faculty perform and present their work. Refreshments will be served at a reception following this free event.</span>
LOCATION:Fine Arts Auditorium
UID:e.2303.17833
SEQUENCE:3
DTSTAMP:20260425T214623Z
URL:http://greatbend.chambermaster.com/events/details/performing-arts-faculty-recital-17833
END:VEVENT

END:VCALENDAR
