BEGIN:VCALENDAR
VERSION:2.0
PRODID:-//ChamberMaster//Event Calendar 2.0//EN
METHOD:PUBLISH
X-PUBLISHED-TTL:P3D
REFRESH-INTERVAL:P3D
CALSCALE:GREGORIAN
BEGIN:VEVENT
DTSTART;VALUE=DATE:20240914
DTEND;VALUE=DATE:20240915
TRANSP:TRANSPARENT
X-MICROSOFT-CDO-ALLDAYEVENT:TRUE
SUMMARY:Perfect Pairings
DESCRIPTION:Be on the look out for tickets going on sale soon!! Tickets are limited\, and you won't want to miss this event! Learn how to pair different wines with different meats\, cheeses\, and Freaking Delicious Cheesecake Company cheesecake! Learn how to build your own charcuterie board from the expertise of Proper Boards & Picnics! Afterwards will be a social hour with the chance to purchase more local wine from Rosewood Wine Cellar !
X-ALT-DESC;FMTTYPE=text/html:Be on the look out for tickets going on sale soon!! Tickets are limited\, and you won&#39\;t want to miss this event! Learn how to pair different wines with different meats\, cheeses\, and Freaking Delicious Cheesecake Company cheesecake! Learn how to build your own charcuterie board from the expertise of Proper Boards &amp\; Picnics! Afterwards will be a social hour with the chance to purchase more local wine from Rosewood Wine Cellar !
LOCATION:Corinthians Hlls Events Center
UID:e.2303.13949
SEQUENCE:3
DTSTAMP:20260424T021024Z
URL:http://greatbend.chambermaster.com/events/details/perfect-pairings-13949
END:VEVENT

END:VCALENDAR
