BEGIN:VCALENDAR
VERSION:2.0
PRODID:-//ChamberMaster//Event Calendar 2.0//EN
METHOD:PUBLISH
X-PUBLISHED-TTL:P3D
REFRESH-INTERVAL:P3D
CALSCALE:GREGORIAN
BEGIN:VEVENT
DTSTART:20250304T230000Z
DTEND:20250305T010000Z
X-MICROSOFT-CDO-ALLDAYEVENT:FALSE
SUMMARY:Pancake and Sausage Dinner
DESCRIPTION:St. John's Episcopal Church and First Congregational United Church of Christ are hosting a Shrove Tuesday pancake and sausage dinner! The dinner is free and they do have a free will offering.
X-ALT-DESC;FMTTYPE=text/html:St. John&#39\;s Episcopal Church and First Congregational United Church of Christ are hosting a Shrove Tuesday pancake and sausage dinner! The dinner is free and they do have a free will offering.&nbsp\;
LOCATION:3400 21st St. Great Bend\, KS
UID:e.2303.16407
SEQUENCE:3
DTSTAMP:20260423T234215Z
URL:http://greatbend.chambermaster.com/events/details/pancake-and-sausage-dinner-16407
END:VEVENT

END:VCALENDAR
