BEGIN:VCALENDAR
VERSION:2.0
PRODID:-//ChamberMaster//Event Calendar 2.0//EN
METHOD:PUBLISH
X-PUBLISHED-TTL:P3D
REFRESH-INTERVAL:P3D
CALSCALE:GREGORIAN
BEGIN:VEVENT
DTSTART;VALUE=DATE:20240710
DTEND;VALUE=DATE:20240714
TRANSP:TRANSPARENT
X-MICROSOFT-CDO-ALLDAYEVENT:TRUE
SUMMARY:McCRACKEN Rodeo
DESCRIPTION:
X-ALT-DESC;FMTTYPE=text/html:
LOCATION:Jack Wilson Mustang Arena\, McCRACKEN KS
UID:e.2303.13770
SEQUENCE:3
DTSTAMP:20260425T033901Z
URL:http://greatbend.chambermaster.com/events/details/mccracken-rodeo-13770
END:VEVENT

END:VCALENDAR
