BEGIN:VCALENDAR
VERSION:2.0
PRODID:-//ChamberMaster//Event Calendar 2.0//EN
METHOD:PUBLISH
X-PUBLISHED-TTL:P3D
REFRESH-INTERVAL:P3D
CALSCALE:GREGORIAN
BEGIN:VEVENT
DTSTART:20251016T140000Z
DTEND:20251016T150000Z
X-MICROSOFT-CDO-ALLDAYEVENT:FALSE
SUMMARY:Marketing with AI
DESCRIPTION:Want to take your marketing to the next level with AI? In this session\, you'll get hands-on experience with easy tools that speed up campaigns\, create eye-catching visuals\, and simplify repetitive tasks. We'll also share inspiring stories from Midwestern businesses already using AI to boost their online presence\, giving you practical ideas you can try yourself.
X-ALT-DESC;FMTTYPE=text/html:Want to take your marketing to the next level with AI? In this session\, you&rsquo\;ll get hands-on experience with easy tools that speed up campaigns\, create eye-catching visuals\, and simplify repetitive tasks. We&rsquo\;ll also share inspiring stories from Midwestern businesses already using AI to boost their online presence\, giving you practical ideas you can try yourself.
LOCATION:Online
UID:e.2303.18005
SEQUENCE:3
DTSTAMP:20260423T071757Z
URL:http://greatbend.chambermaster.com/events/details/marketing-with-ai-18005
END:VEVENT

END:VCALENDAR
