BEGIN:VCALENDAR
VERSION:2.0
PRODID:-//ChamberMaster//Event Calendar 2.0//EN
METHOD:PUBLISH
X-PUBLISHED-TTL:P3D
REFRESH-INTERVAL:P3D
CALSCALE:GREGORIAN
BEGIN:VEVENT
DTSTART;VALUE=DATE:20241218
DTEND;VALUE=DATE:20241219
TRANSP:TRANSPARENT
X-MICROSOFT-CDO-ALLDAYEVENT:TRUE
SUMMARY:Margaritas & Mistletoe!!
DESCRIPTION:MARGARITAS & MISTLETOE !!    YOU'RE INVITED! Join us Wednesday\, December 18th at Abbey Carpet & Floor for our 1st Christmas Soir e!   Come SIP & SHOP while we serve up Margaritas\, Charcuterie\, & Light Bites as we Celebrate the Holiday Season!   \n\nJoin us to shop unique Christmas gifts that we have curated especially for this Event - AND we are offering Complimentary Gift Wrapping with your purchase!   We will also have Permalinx Jewelry by Paige Edward's and Boy Mama Styled - Permanent Jewelry with their beautiful selection of permanent jewelry\, earrings\, charms\, & MORE for a fun addition to the night & perfect for Gift Giving!   \n\nProper Boards & Picnics will also be joining us for Holiday Charcuterie Board Pre-orders and will be selling Gift Certificates for your charcuterie loving bestie or family members! We know from experience- They truly make the perfect gift!    \n\nEden Valley Photos will be joining us to capture the moment   So wear your Festive Best and snap a photo with our Christmas Photo Backdrop!   \n\nWe will also have EXCITING GIVEAWAYS from participating shops! Tag a friend or significant other you want to bring for a Holiday Sip & Shop Soir e!
X-ALT-DESC;FMTTYPE=text/html:&#127876\;&#10084\;&#65039\; MARGARITAS &amp\; MISTLETOE !! &#10084\;&#65039\;&#127876\;YOU&rsquo\;RE INVITED! Join us Wednesday\, December 18th at Abbey Carpet &amp\; Floor for our 1st Christmas Soir&eacute\;e! &#127876\; Come SIP &amp\; SHOP while we serve up Margaritas\, Charcuterie\, &amp\; Light Bites as we Celebrate the Holiday Season! &#127865\;&nbsp\;<br />\nJoin us to shop unique Christmas gifts that we have curated especially for this Event - AND we are offering Complimentary Gift Wrapping with your purchase! &#127873\; We will also have Permalinx Jewelry by Paige Edward&rsquo\;s and Boy Mama Styled - Permanent Jewelry with their beautiful selection of permanent jewelry\, earrings\, charms\, &amp\; MORE for a fun addition to the night &amp\; perfect for Gift Giving! &#10024\;&nbsp\;<br />\nProper Boards &amp\; Picnics will also be joining us for Holiday Charcuterie Board Pre-orders and will be selling Gift Certificates for your charcuterie loving bestie or family members! We know from experience- They truly make the perfect gift!&nbsp\; &#129472\;&#127815\;<br />\nEden Valley Photos will be joining us to capture the moment &#128247\; So wear your Festive Best and snap a photo with our Christmas Photo Backdrop! &#127876\;&#128525\;<br />\nWe will also have EXCITING GIVEAWAYS from participating shops! Tag a friend or significant other you want to bring for a Holiday Sip &amp\; Shop Soir&eacute\;e! &#127881\;&nbsp\;
LOCATION:Abbey Carpet and Floor\, Great Bend KS
UID:e.2303.15665
SEQUENCE:3
DTSTAMP:20260425T000005Z
URL:http://greatbend.chambermaster.com/events/details/margaritas-mistletoe-15665
END:VEVENT

END:VCALENDAR
