BEGIN:VCALENDAR
VERSION:2.0
PRODID:-//ChamberMaster//Event Calendar 2.0//EN
METHOD:PUBLISH
X-PUBLISHED-TTL:P3D
REFRESH-INTERVAL:P3D
CALSCALE:GREGORIAN
BEGIN:VEVENT
DTSTART:20251018T223000Z
DTEND:20251019T000000Z
X-MICROSOFT-CDO-ALLDAYEVENT:FALSE
SUMMARY:Legion Steak Night
DESCRIPTION:The VFW is hosting a steak night from 5:30 to 7!
X-ALT-DESC;FMTTYPE=text/html:The VFW is hosting a steak night from 5:30 to 7!
LOCATION:504 Washington\, Great Bend\, KS
UID:e.2303.17878
SEQUENCE:3
DTSTAMP:20260420T151747Z
URL:http://greatbend.chambermaster.com/events/details/legion-steak-night-17878
END:VEVENT

END:VCALENDAR
