BEGIN:VCALENDAR
VERSION:2.0
PRODID:-//ChamberMaster//Event Calendar 2.0//EN
METHOD:PUBLISH
X-PUBLISHED-TTL:P3D
REFRESH-INTERVAL:P3D
CALSCALE:GREGORIAN
BEGIN:VEVENT
DTSTART:20250419T223000Z
DTEND:20250420T000000Z
X-MICROSOFT-CDO-ALLDAYEVENT:FALSE
SUMMARY:Legion Steak Night
DESCRIPTION:The Legion is hosting a steak night from 5:30 to 7!
X-ALT-DESC;FMTTYPE=text/html:The Legion is hosting a steak night from 5:30 to 7!
LOCATION:1011 Washington\, Great Bend\, KS
UID:e.2303.16436
SEQUENCE:3
DTSTAMP:20260421T233554Z
URL:http://greatbend.chambermaster.com/events/details/legion-steak-night-16436
END:VEVENT

END:VCALENDAR
