BEGIN:VCALENDAR
VERSION:2.0
PRODID:-//ChamberMaster//Event Calendar 2.0//EN
METHOD:PUBLISH
X-PUBLISHED-TTL:P3D
REFRESH-INTERVAL:P3D
CALSCALE:GREGORIAN
BEGIN:VEVENT
DTSTART:20250204T230000Z
DTEND:20250205T020000Z
X-MICROSOFT-CDO-ALLDAYEVENT:FALSE
SUMMARY:Leaving a Lasting Legacy
DESCRIPTION:This hands-on evening workshop series will provide educational presentations and resources to motivate participants to start the farm transition planning process\, or review their current transition plan. Communication\, financial\, and legal aspects will all be covered.  The goal is for participants to acquire knowledge they can apply directly to their own farm/ranch situation.\n\n\n\nParticipants must register for the entire 4-part series\, as sessions will build upon each other.  \n\n\n\nJanuary 21st- Motivation for Succession Planning\n\nJanuary 28th- Family and Communication around Estate and Transitioning Planning\n\nFebruary 4th- Financial Aspects of Estate and Transition Plans\n\nFebruary 11th- Legal Aspects of Putting Your Plan into Place
X-ALT-DESC;FMTTYPE=text/html:This hands-on evening workshop series will provide educational presentations and resources to motivate participants to start the farm transition planning process\, or review their current transition plan. Communication\, financial\, and legal aspects will all be covered.&nbsp\; The goal is for participants to acquire knowledge they can apply directly to their own farm/ranch situation.<br />\n<br />\nParticipants must register for the entire 4-part series\, as sessions will build upon each other.&nbsp\;&nbsp\;<br />\n<br />\nJanuary 21st- Motivation for Succession Planning<br />\nJanuary 28th- Family and Communication around Estate and Transitioning Planning<br />\nFebruary 4th- Financial Aspects of Estate and Transition Plans<br />\nFebruary 11th- Legal Aspects of Putting Your Plan into Place
LOCATION:3007 10th St. Great Bend\, KS 67530
UID:e.2303.16131
SEQUENCE:3
DTSTAMP:20260423T234215Z
URL:http://greatbend.chambermaster.com/events/details/leaving-a-lasting-legacy-16131
END:VEVENT

END:VCALENDAR
