BEGIN:VCALENDAR
VERSION:2.0
PRODID:-//ChamberMaster//Event Calendar 2.0//EN
METHOD:PUBLISH
X-PUBLISHED-TTL:P3D
REFRESH-INTERVAL:P3D
CALSCALE:GREGORIAN
BEGIN:VEVENT
DTSTART:20250516T161500Z
DTEND:20250516T170000Z
X-MICROSOFT-CDO-ALLDAYEVENT:FALSE
SUMMARY:Leader Steps
DESCRIPTION:Are you an entrepreneur\, CEO\, or executive looking to strengthen your leadership impact? Leadership is not just about holding a title it's about influence\, engagement\, and creating a ripple effect of growth within your team and organization. That's why I'm excited to invite you to Leader Steps!\, an exclusive leadership experience designed to help you gain momentum and become the leader you were meant to be.\n\nThrough Leader Steps!\, you'll discover four actionable steps to elevate your leadership effectiveness. This virtual experience is an opportunity to deepen your self-awareness\, sharpen your strategic thinking\, and build the skills necessary to inspire and engage those around you.\n\n \n\n Why Leader Steps?\n\n? Gain Clarity & Confidence   Learn how to navigate leadership challenges with greater self-awareness and strategic insight.\n\n? Master the Right Conversations   Elevate your ability to influence and engage your team through powerful\, results-driven dialogue.\n\n? Expand Your Impact   Unlock leadership potential within yourself and those around you\, creating lasting change in your organization.
X-ALT-DESC;FMTTYPE=text/html:<p style="text-align: initial\;"><span style="background-color: rgba(0\, 0\, 0\, 0)\;">Are you an entrepreneur\, CEO\, or executive looking to strengthen your leadership impact?&nbsp\;Leadership is not just about holding a title&mdash\;it&rsquo\;s about influence\, engagement\, and creating a ripple effect of growth within your team and organization. That&rsquo\;s why I&rsquo\;m excited to invite you to&nbsp\;Leader Steps!\, an exclusive leadership experience designed to help you gain momentum and become the leader you were meant to be.</span></p>\n\n<p><span style="background-color: rgba(0\, 0\, 0\, 0)\;">Through&nbsp\;Leader Steps!\, you&#39\;ll discover four actionable steps to elevate your leadership effectiveness. This&nbsp\;virtual experience&nbsp\;is an opportunity to deepen your self-awareness\, sharpen your strategic thinking\, and build the skills necessary to inspire and engage those around you.</span></p>\n\n<div style="background: transparent\; border: 0px\; padding: 0px\;">&nbsp\;</div>\n\n<p><span style="background-color: rgba(0\, 0\, 0\, 0)\;">&nbsp\;Why Leader Steps?</span></p>\n\n<p><span style="background-color: rgba(0\, 0\, 0\, 0)\;">?&nbsp\;Gain Clarity &amp\; Confidence&nbsp\;&ndash\; Learn how to navigate leadership challenges with greater self-awareness and strategic insight.</span></p>\n\n<p><span style="background-color: rgba(0\, 0\, 0\, 0)\;">?&nbsp\;Master the Right Conversations&nbsp\;&ndash\; Elevate your ability to influence and engage your team through powerful\, results-driven dialogue.</span></p>\n\n<p><span style="background-color: rgba(0\, 0\, 0\, 0)\;">?&nbsp\;Expand Your Impact&nbsp\;&ndash\; Unlock leadership potential within yourself and those around you\, creating lasting change in your organization.</span></p>\n
LOCATION:
UID:e.2303.17022
SEQUENCE:3
DTSTAMP:20260422T114011Z
URL:http://greatbend.chambermaster.com/events/details/leader-steps-17022
END:VEVENT

END:VCALENDAR
