BEGIN:VCALENDAR
VERSION:2.0
PRODID:-//ChamberMaster//Event Calendar 2.0//EN
METHOD:PUBLISH
X-PUBLISHED-TTL:P3D
REFRESH-INTERVAL:P3D
CALSCALE:GREGORIAN
BEGIN:VEVENT
DTSTART:20250317T180000Z
DTEND:20250317T210000Z
X-MICROSOFT-CDO-ALLDAYEVENT:FALSE
SUMMARY:KWEC Spring Break - Dancing Seeds
DESCRIPTION:Just in time for St. Patrick's Day\, let's talk about green plants and where they come from: seeds! Unlock the mystery of seeds by dissecting a seed\, studying how they move\, making seeds move with a fun experiment\, and planting your own seed to take home and care for.
X-ALT-DESC;FMTTYPE=text/html:Just in time for St. Patrick&rsquo\;s Day\, let&rsquo\;s talk about green plants and where they come from: seeds! Unlock the mystery of seeds by dissecting a seed\, studying how they move\, making seeds move with a fun experiment\, and planting your own seed to take home and care for.
LOCATION:Kansas Wetlands Education Center
UID:e.2303.16448
SEQUENCE:3
DTSTAMP:20260422T190038Z
URL:http://greatbend.chambermaster.com/events/details/kwec-spring-break-dancing-seeds-16448
END:VEVENT

END:VCALENDAR
