BEGIN:VCALENDAR
VERSION:2.0
PRODID:-//ChamberMaster//Event Calendar 2.0//EN
METHOD:PUBLISH
X-PUBLISHED-TTL:P3D
REFRESH-INTERVAL:P3D
CALSCALE:GREGORIAN
BEGIN:VEVENT
DTSTART:20250320T180000Z
DTEND:20250320T210000Z
X-MICROSOFT-CDO-ALLDAYEVENT:FALSE
SUMMARY:KWEC Spring Break
DESCRIPTION:Explore the world of invertebrates! 97 percent of all animals species are invertebrates\, but what is an invertebrate? It is an animal without a backbone\, but there is much more than that. Learn all about what makes an invertebrate and even meet some of the Center's own live critters. Then\, make your own take-home insect carrier.
X-ALT-DESC;FMTTYPE=text/html:Explore the world of invertebrates! 97 percent of all animals species are invertebrates\, but what is an invertebrate? It is an animal without a backbone\, but there is much more than that. Learn all about what makes an invertebrate and even meet some of the Center&rsquo\;s own live critters. Then\, make your own take-home insect carrier.
LOCATION:Kansas Wetlands Education Center
UID:e.2303.16451
SEQUENCE:3
DTSTAMP:20260422T010242Z
URL:http://greatbend.chambermaster.com/events/details/kwec-spring-break-16451
END:VEVENT

END:VCALENDAR
