BEGIN:VCALENDAR
VERSION:2.0
PRODID:-//ChamberMaster//Event Calendar 2.0//EN
METHOD:PUBLISH
X-PUBLISHED-TTL:P3D
REFRESH-INTERVAL:P3D
CALSCALE:GREGORIAN
BEGIN:VEVENT
DTSTART:20241013T210000Z
DTEND:20241014T010000Z
X-MICROSOFT-CDO-ALLDAYEVENT:FALSE
SUMMARY:Kevin Horner Live
DESCRIPTION:Kevin Horner is a veteran comedian\, ventriloquist\, and magician. His unique style\, voice\, and adaptability spans all ages and personalities. His timing\, energy\, quick wit\, and reactions to all audiences are guaranteed to inspire uproarious laughter. Kevin is a 3 times "People's Choice Award Winner" for the art of ventriloquism. He has performed for Comicon\, the Improv\, Great Wolf Lodge\, Whiteman Air Force Base\, Fort Riley Military Base\, as well as at many other events\, schools\, libraries\, fairs\, and festivals. Kevin will be performing TWO DIFFERENT shows at the Great Bend City Auditorium (1214 Stone St.) on Sunday\, October 13th\, 2024. Each show will last approximately 45 minutes to 1 hour. SHOW 1 - The Anti-Bullying Show will start at 4:00 pm with the doors opening at 3:30 pm. This show will be free to all Elementary students and adults. Children must be accompanied by an adult to attend this show. SHOW 2 - This Adult show that is also Family Friendly will start at 7:00 pm with the doors opening at 6:30 pm. There will be a $5.00 per person fee taken at the door for BOTH adults and children for this performance.
X-ALT-DESC;FMTTYPE=text/html:Kevin Horner is a veteran comedian\, ventriloquist\, and magician. His unique style\, voice\, and adaptability spans all ages and personalities. His timing\, energy\, quick wit\, and reactions to all audiences are guaranteed to inspire uproarious laughter. Kevin is a 3 times &ldquo\;People&rsquo\;s Choice Award Winner&rdquo\; for the art of ventriloquism. He has performed for Comicon\, the Improv\, Great Wolf Lodge\, Whiteman Air Force Base\, Fort Riley Military Base\, as well as at many other events\, schools\, libraries\, fairs\, and festivals. Kevin will be performing TWO DIFFERENT shows at the Great Bend City Auditorium (1214 Stone St.) on Sunday\, October 13th\, 2024. Each show will last approximately 45 minutes to 1 hour. SHOW 1 - The Anti-Bullying Show will start at 4:00 pm with the doors opening at 3:30 pm. This show will be free to all Elementary students and adults. Children must be accompanied by an adult to attend this show. SHOW 2 - This Adult show that is also Family Friendly will start at 7:00 pm with the doors opening at 6:30 pm. There will be a $5.00 per person fee taken at the door for BOTH adults and children for this performance.
LOCATION:Great Bend Rec City Auditorium 1214 Stone Street
UID:e.2303.14440
SEQUENCE:3
DTSTAMP:20260424T045022Z
URL:http://greatbend.chambermaster.com/events/details/kevin-horner-live-14440
END:VEVENT

END:VCALENDAR
