BEGIN:VCALENDAR
VERSION:2.0
PRODID:-//ChamberMaster//Event Calendar 2.0//EN
METHOD:PUBLISH
X-PUBLISHED-TTL:P3D
REFRESH-INTERVAL:P3D
CALSCALE:GREGORIAN
BEGIN:VEVENT
DTSTART:20250810T180000Z
DTEND:20250810T210000Z
X-MICROSOFT-CDO-ALLDAYEVENT:FALSE
SUMMARY:Kansas Saving 22 Documentary Tour
DESCRIPTION:The American Legion Post 180 is presenting the Kansas Saving 22 Documentary Tour to help end veteran suicide. At 1pm they will hold a networking session and at 2pm a movie will be presented. All proceeds will go towards helping veterans.
X-ALT-DESC;FMTTYPE=text/html:The American Legion Post 180 is presenting the Kansas Saving 22 Documentary Tour to help end veteran suicide. At 1pm they will hold a networking session and at 2pm a movie will be presented. All proceeds will go towards helping veterans.&nbsp\;
LOCATION:1011 Kansas Ave. Great Bend\, KS
UID:e.2303.17809
SEQUENCE:3
DTSTAMP:20260421T003024Z
URL:http://greatbend.chambermaster.com/events/details/kansas-saving-22-documentary-tour-17809
END:VEVENT

END:VCALENDAR
