BEGIN:VCALENDAR
VERSION:2.0
PRODID:-//ChamberMaster//Event Calendar 2.0//EN
METHOD:PUBLISH
X-PUBLISHED-TTL:P3D
REFRESH-INTERVAL:P3D
CALSCALE:GREGORIAN
BEGIN:VEVENT
DTSTART:20250405T130000Z
DTEND:20250405T190000Z
X-MICROSOFT-CDO-ALLDAYEVENT:FALSE
SUMMARY:Kansas Hunter Education Course Internet- Assisted
DESCRIPTION:This class will meet at the Great Bend Police Training Facility. Students must pre register for this class at www.safehunters.com before completing the no-cost online course at www.ksoutdoors.com. Students are required to bring their results from the chapter quizzes they take on this site. Students must also print off the "completion certificate" after completing the online course work and turn it into the instructor on the day of the event.  A pretest will also be assigned at the beginning of the class \, you will need a passing score of 22 out of 25 correct answers to continue in the class. This class is limited to 21 people so make sure to register online!
X-ALT-DESC;FMTTYPE=text/html:This class will meet at the Great Bend Police Training Facility. Students must pre register for this class at www.safehunters.com before completing the no-cost online course at www.ksoutdoors.com. Students are required to bring their results from the chapter quizzes they take on this site. Students must also print off the &quot\;completion certificate&quot\; after completing the online course work and turn it into the instructor on the day of the event.&nbsp\; A pretest will also be assigned at the beginning of the class \, you will need a passing score of 22 out of 25 correct answers to continue in the class. This class is limited to 21 people so make sure to register online!
LOCATION:Great Bend Police Training Facility
UID:e.2303.16506
SEQUENCE:3
DTSTAMP:20260421T154348Z
URL:http://greatbend.chambermaster.com/events/details/kansas-hunter-education-course-internet-assisted-16506
END:VEVENT

END:VCALENDAR
