BEGIN:VCALENDAR
VERSION:2.0
PRODID:-//ChamberMaster//Event Calendar 2.0//EN
METHOD:PUBLISH
X-PUBLISHED-TTL:P3D
REFRESH-INTERVAL:P3D
CALSCALE:GREGORIAN
BEGIN:VEVENT
DTSTART:20251007T183000Z
DTEND:20251007T193000Z
X-MICROSOFT-CDO-ALLDAYEVENT:FALSE
SUMMARY:IP for the Creative Arts
DESCRIPTION:This session helps participants understand what type of business assets may be protectable by copyright\, and other considerations. What can be considered for copyright protection:\n\n	Advertising and promotional materials\n	Instructional manuals\n	Educational materials\n	Software\n	Website\n	Artistic elements of logos (e.g.\, product logo artwork)\n	Product design & packaging (rarely protected by  )\n\n\n\nConsiderations when applying for copyright protection:\n\n	Requirements\n	What is NOT protected\n	What is required to secure protection and why registration matters\n	What is the Registration process\n	Ownership\n	Infringement\n	Fair Use\n	Common myths and more\n\n*Registration closes at Noon on Monday\, October 6th 2025*
X-ALT-DESC;FMTTYPE=text/html:This session helps participants understand what type of business assets may be protectable by copyright\, and other considerations. What can be considered for copyright protection:\n<ul>\n	<li>Advertising and promotional materials</li>\n	<li>Instructional manuals</li>\n	<li>Educational materials</li>\n	<li>Software</li>\n	<li>Website</li>\n	<li>Artistic elements of logos (e.g.\, product logo artwork)</li>\n	<li>Product design &amp\; packaging (rarely protected by &copy\;)</li>\n</ul>\n<br />\nConsiderations when applying for copyright protection:\n<ul>\n	<li>Requirements</li>\n	<li>What is NOT protected</li>\n	<li>What is required to secure protection and why registration matters</li>\n	<li>What is the Registration process</li>\n	<li>Ownership</li>\n	<li>Infringement</li>\n	<li>Fair Use</li>\n	<li>Common myths and more</li>\n</ul>\n<strong><span style="font-size:16px\;">*Registration closes at Noon on Monday\, October 6th 2025*</span></strong>
LOCATION:Online
UID:e.2303.17882
SEQUENCE:3
DTSTAMP:20260421T205631Z
URL:http://greatbend.chambermaster.com/events/details/ip-for-the-creative-arts-17882
END:VEVENT

END:VCALENDAR
