BEGIN:VCALENDAR
VERSION:2.0
PRODID:-//ChamberMaster//Event Calendar 2.0//EN
METHOD:PUBLISH
X-PUBLISHED-TTL:P3D
REFRESH-INTERVAL:P3D
CALSCALE:GREGORIAN
BEGIN:VEVENT
DTSTART:20250918T170000Z
DTEND:20250918T180000Z
X-MICROSOFT-CDO-ALLDAYEVENT:FALSE
SUMMARY:Intro Into Intellectual Properties
DESCRIPTION:Inventions\, designs\, original works of authorship\, and trade secrets can provide you with economic benefits. Learn the basics of intellectual property protection. Jessica Pierpoint with the USPTO Kansas Patent and Trademark Resource Center will present.
X-ALT-DESC;FMTTYPE=text/html:Inventions\, designs\, original works of authorship\, and trade secrets can provide you with economic benefits. Learn the basics of intellectual property protection. Jessica Pierpoint with the USPTO Kansas Patent and Trademark Resource Center will present.
LOCATION:Online
UID:e.2303.17774
SEQUENCE:3
DTSTAMP:20260421T152257Z
URL:http://greatbend.chambermaster.com/events/details/intro-into-intellectual-properties-17774
END:VEVENT

END:VCALENDAR
