BEGIN:VCALENDAR
VERSION:2.0
PRODID:-//ChamberMaster//Event Calendar 2.0//EN
METHOD:PUBLISH
X-PUBLISHED-TTL:P3D
REFRESH-INTERVAL:P3D
CALSCALE:GREGORIAN
BEGIN:VEVENT
DTSTART:20260228T150000Z
DTEND:20260228T180000Z
X-MICROSOFT-CDO-ALLDAYEVENT:FALSE
SUMMARY:Heart Walk 2026
DESCRIPTION:Is a public community event to raise funds for the American Heart Association in collaboration with local business through items donated for the raffle . There will be a continental breakfast\, Avast YE Java will be present \, Art Cart from Shaffer Gallery as well other surprises.
X-ALT-DESC;FMTTYPE=text/html:Is a public community event to raise funds for the American Heart Association in collaboration with local business through items donated for the raffle . There will be a continental breakfast\, Avast YE Java will be present \, Art Cart from Shaffer Gallery as well other surprises.
LOCATION:GB Activity Center 2715 18th ST
UID:e.2303.18032
SEQUENCE:3
DTSTAMP:20260422T021539Z
URL:http://greatbend.chambermaster.com/events/details/heart-walk-2026-18032
END:VEVENT

END:VCALENDAR
