BEGIN:VCALENDAR
VERSION:2.0
PRODID:-//ChamberMaster//Event Calendar 2.0//EN
METHOD:PUBLISH
X-PUBLISHED-TTL:P3D
REFRESH-INTERVAL:P3D
CALSCALE:GREGORIAN
BEGIN:VEVENT
DTSTART:20250313T213000Z
DTEND:20250314T000000Z
X-MICROSOFT-CDO-ALLDAYEVENT:FALSE
SUMMARY:Ham and Bean Dinner
DESCRIPTION:The Great Bend Evening Lions Club is holding their 14th Annual ham and bean dinner. It will be held March 13th at the Knights of Columbus. It is $10 per person and its available for dine in or carry out. All kids 5 and under eat for free!
X-ALT-DESC;FMTTYPE=text/html:The Great Bend Evening Lions Club is holding their 14th Annual ham and bean dinner. It will be held March 13th at the Knights of Columbus. It is $10 per person and its available for dine in or carry out. All kids 5 and under eat for free!
LOCATION:723 South Main St. Great Bend\, KS
UID:e.2303.16487
SEQUENCE:3
DTSTAMP:20260423T011634Z
URL:http://greatbend.chambermaster.com/events/details/ham-and-bean-dinner-16487
END:VEVENT

END:VCALENDAR
