BEGIN:VCALENDAR
VERSION:2.0
PRODID:-//ChamberMaster//Event Calendar 2.0//EN
METHOD:PUBLISH
X-PUBLISHED-TTL:P3D
REFRESH-INTERVAL:P3D
CALSCALE:GREGORIAN
BEGIN:VEVENT
DTSTART:20250802T000000Z
DTEND:20250802T010000Z
X-MICROSOFT-CDO-ALLDAYEVENT:FALSE
SUMMARY:GBHS Marching Band Showcase
DESCRIPTION:The community is invited to attend the GBHS Marching Band Showcase this Friday\, August 1\, at 7:00\n\np.m. at Memorial Stadium. This free event marks the culmination of a week-long band camp where students braved the\n\nsummer heat to refine their musical skills\, perfect their routines\, and grow as a team.
X-ALT-DESC;FMTTYPE=text/html:The community is invited to attend the GBHS Marching Band Showcase this Friday\, August 1\, at 7:00<br />\np.m. at Memorial Stadium. This free event marks the culmination of a week-long band camp where students braved the<br />\nsummer heat to refine their musical skills\, perfect their routines\, and grow as a team.
LOCATION:GBHS Memorial Stadium
UID:e.2303.17805
SEQUENCE:3
DTSTAMP:20260425T024836Z
URL:http://greatbend.chambermaster.com/events/details/gbhs-marching-band-showcase-17805
END:VEVENT

END:VCALENDAR
