BEGIN:VCALENDAR
VERSION:2.0
PRODID:-//ChamberMaster//Event Calendar 2.0//EN
METHOD:PUBLISH
X-PUBLISHED-TTL:P3D
REFRESH-INTERVAL:P3D
CALSCALE:GREGORIAN
BEGIN:VEVENT
DTSTART:20251010T200000Z
DTEND:20251011T020000Z
X-MICROSOFT-CDO-ALLDAYEVENT:FALSE
SUMMARY:GBHS Homecoming
DESCRIPTION:Make plans to celebrate GBHS Homecoming on Friday\, October 10 as the GBHS Panthers take on Liberal!\n\n\n\n\n\nFootball Game Expectations:\n\nAll elementary students must be accompanied by an adult for admission into the game. Elementary students are expected to sit with their parents/guardians for the duration of the game. Thank you for your cooperation in making sure this is a fun and safe night for our spectators and fans! #GoPanthers!
X-ALT-DESC;FMTTYPE=text/html:<span style="color: rgb(110\, 111\, 115)\; font-family: Inter\, &quot\;Helvetica Neue&quot\;\, Helvetica\, Arial\, sans-serif\; font-size: 16px\;">Make plans to celebrate GBHS Homecoming on Friday\, October 10 as the GBHS Panthers take on Liberal!</span><br style="font-family: Inter\, &quot\;Helvetica Neue&quot\;\, Helvetica\, Arial\, sans-serif\; color: rgb(110\, 111\, 115)\; font-size: 16px\;" />\n<br style="font-family: Inter\, &quot\;Helvetica Neue&quot\;\, Helvetica\, Arial\, sans-serif\; color: rgb(110\, 111\, 115)\; font-size: 16px\;" />\n<br style="font-family: Inter\, &quot\;Helvetica Neue&quot\;\, Helvetica\, Arial\, sans-serif\; color: rgb(110\, 111\, 115)\; font-size: 16px\;" />\n<span style="color: rgb(110\, 111\, 115)\; font-family: Inter\, &quot\;Helvetica Neue&quot\;\, Helvetica\, Arial\, sans-serif\; font-size: 16px\;">Football Game Expectations:</span><br style="font-family: Inter\, &quot\;Helvetica Neue&quot\;\, Helvetica\, Arial\, sans-serif\; color: rgb(110\, 111\, 115)\; font-size: 16px\;" />\n<span style="color: rgb(110\, 111\, 115)\; font-family: Inter\, &quot\;Helvetica Neue&quot\;\, Helvetica\, Arial\, sans-serif\; font-size: 16px\;">All elementary students must be accompanied by an adult for admission into the game. Elementary students are expected to sit with their parents/guardians for the duration of the game. Thank you for your cooperation in making sure this is a fun and safe night for our spectators and fans! #GoPanthers!</span>\n<p style="font-family: Inter\, &quot\;Helvetica Neue&quot\;\, Helvetica\, Arial\, sans-serif\; margin: 0px\; color: rgb(110\, 111\, 115)\; font-size: 16px\; line-height: 1.6\; word-break: break-word\;">&nbsp\;</p>\n\n<div>&nbsp\;</div>\n
LOCATION:Great Bend High School Memorial Stadium\, 2027 Morton St\, Great Bend\, KS 67530-2559\, United States
UID:e.2303.17958
SEQUENCE:3
DTSTAMP:20260426T015701Z
URL:http://greatbend.chambermaster.com/events/details/gbhs-homecoming-17958
END:VEVENT

END:VCALENDAR
