BEGIN:VCALENDAR
VERSION:2.0
PRODID:-//ChamberMaster//Event Calendar 2.0//EN
METHOD:PUBLISH
X-PUBLISHED-TTL:P3D
REFRESH-INTERVAL:P3D
CALSCALE:GREGORIAN
BEGIN:VEVENT
DTSTART:20250209T000000Z
DTEND:20250209T020000Z
X-MICROSOFT-CDO-ALLDAYEVENT:FALSE
SUMMARY:Galantine's Flower Bar!
DESCRIPTION:Head down to Happy Girl Flower shop! Bring your bestie and make some beautiful $20 flower bouquets together and enjoy some yummy treats while you do it!
X-ALT-DESC;FMTTYPE=text/html:Head down to Happy Girl Flower shop! Bring your bestie and make some beautiful $20 flower bouquets together and enjoy some yummy treats while you do it!
LOCATION:109 A Street\, Claflin\, KS
UID:e.2303.16151
SEQUENCE:3
DTSTAMP:20260425T132745Z
URL:http://greatbend.chambermaster.com/events/details/galantine-s-flower-bar-16151
END:VEVENT

END:VCALENDAR
